BEGIN:VCALENDAR
VERSION:2.0
PRODID:-//Leroy Township, Ohio - ECPv6.15.20//NONSGML v1.0//EN
CALSCALE:GREGORIAN
METHOD:PUBLISH
X-WR-CALNAME:Leroy Township, Ohio
X-ORIGINAL-URL:https://leroyohio.com
X-WR-CALDESC:Events for Leroy Township, Ohio
REFRESH-INTERVAL;VALUE=DURATION:PT1H
X-Robots-Tag:noindex
X-PUBLISHED-TTL:PT1H
BEGIN:VTIMEZONE
TZID:America/New_York
BEGIN:DAYLIGHT
TZOFFSETFROM:-0500
TZOFFSETTO:-0400
TZNAME:EDT
DTSTART:20240310T070000
END:DAYLIGHT
BEGIN:STANDARD
TZOFFSETFROM:-0400
TZOFFSETTO:-0500
TZNAME:EST
DTSTART:20241103T060000
END:STANDARD
BEGIN:DAYLIGHT
TZOFFSETFROM:-0500
TZOFFSETTO:-0400
TZNAME:EDT
DTSTART:20250309T070000
END:DAYLIGHT
BEGIN:STANDARD
TZOFFSETFROM:-0400
TZOFFSETTO:-0500
TZNAME:EST
DTSTART:20251102T060000
END:STANDARD
BEGIN:DAYLIGHT
TZOFFSETFROM:-0500
TZOFFSETTO:-0400
TZNAME:EDT
DTSTART:20260308T070000
END:DAYLIGHT
BEGIN:STANDARD
TZOFFSETFROM:-0400
TZOFFSETTO:-0500
TZNAME:EST
DTSTART:20261101T060000
END:STANDARD
END:VTIMEZONE
BEGIN:VEVENT
DTSTART;TZID=America/New_York:20250816T090000
DTEND;TZID=America/New_York:20250816T170000
DTSTAMP:20260424T102337
CREATED:20250331T171014Z
LAST-MODIFIED:20250331T171139Z
UID:8305-1755334800-1755363600@leroyohio.com
SUMMARY:Kids Garage Sale
DESCRIPTION:Come Sell\, Buy\, Hang out \nFood Trucks and Entertainment \nPreregistration required for selling \nKids stuff only and Kids must help \n 
URL:https://leroyohio.com/calendar/kids-garage-sale/
LOCATION:Behind The Fire Station\, 13028 Leroy Center Road\, Painesville\, OH\, 44077\, United States
END:VEVENT
BEGIN:VEVENT
DTSTART;TZID=America/New_York:20250812T180000
DTEND;TZID=America/New_York:20250812T200000
DTSTAMP:20260424T102337
CREATED:20241220T190331Z
LAST-MODIFIED:20241220T190331Z
UID:7666-1755021600-1755028800@leroyohio.com
SUMMARY:Trustee Meeting
DESCRIPTION:
URL:https://leroyohio.com/calendar/trustee-meeting-15/
LOCATION:Leroy Community Center
END:VEVENT
BEGIN:VEVENT
DTSTART;TZID=America/New_York:20250729T160000
DTEND;TZID=America/New_York:20250729T180000
DTSTAMP:20260424T102337
CREATED:20250721T190432Z
LAST-MODIFIED:20250721T190432Z
UID:8479-1753804800-1753812000@leroyohio.com
SUMMARY:Special Trustee Meeting
DESCRIPTION:
URL:https://leroyohio.com/calendar/special-trustee-meeting-5/
LOCATION:Leroy Community Center
END:VEVENT
BEGIN:VEVENT
DTSTART;TZID=America/New_York:20250714T080000
DTEND;TZID=America/New_York:20250714T100000
DTSTAMP:20260424T102337
CREATED:20250709T012130Z
LAST-MODIFIED:20250709T012130Z
UID:8458-1752480000-1752487200@leroyohio.com
SUMMARY:Special Public Meeting
DESCRIPTION:At this meeting there will be a discussion and a vote.
URL:https://leroyohio.com/calendar/special-public-meeting/
LOCATION:Leroy Community Center
END:VEVENT
BEGIN:VEVENT
DTSTART;TZID=America/New_York:20250708T180000
DTEND;TZID=America/New_York:20250708T200000
DTSTAMP:20260424T102337
CREATED:20241220T190247Z
LAST-MODIFIED:20241220T190409Z
UID:7664-1751997600-1752004800@leroyohio.com
SUMMARY:Trustee Meeting
DESCRIPTION:
URL:https://leroyohio.com/calendar/trustee-meeting-14/
LOCATION:Leroy Community Center
END:VEVENT
BEGIN:VEVENT
DTSTART;TZID=America/New_York:20250630T110000
DTEND;TZID=America/New_York:20250630T130000
DTSTAMP:20260424T102337
CREATED:20250625T192248Z
LAST-MODIFIED:20250625T192248Z
UID:8446-1751281200-1751288400@leroyohio.com
SUMMARY:Special Meeting
DESCRIPTION:There will be nothing voted on at this meeting\, it will go directly into executive session regarding legal matters.
URL:https://leroyohio.com/calendar/special-meeting-2/
LOCATION:Leroy Community Center
END:VEVENT
BEGIN:VEVENT
DTSTART;TZID=America/New_York:20250624T190000
DTEND;TZID=America/New_York:20250624T210000
DTSTAMP:20260424T102337
CREATED:20250115T175011Z
LAST-MODIFIED:20250202T190157Z
UID:8148-1750791600-1750798800@leroyohio.com
SUMMARY:Zoning Board Meeting
DESCRIPTION:
URL:https://leroyohio.com/calendar/zoning-board-meeting-3/
LOCATION:Leroy Community Center
END:VEVENT
BEGIN:VEVENT
DTSTART;TZID=America/New_York:20250614T170000
DTEND;TZID=America/New_York:20250614T210000
DTSTAMP:20260424T102337
CREATED:20250331T170914Z
LAST-MODIFIED:20250331T170914Z
UID:8302-1749920400-1749934800@leroyohio.com
SUMMARY:Summer Concert
DESCRIPTION:Concert featuring InCahhootz \nBring your chairs and blankets \nFood Trucks\, Ice Cream\, Raffles and A Frying Pan Toss
URL:https://leroyohio.com/calendar/summer-concert/
LOCATION:Behind The Fire Station\, 13028 Leroy Center Road\, Painesville\, OH\, 44077\, United States
END:VEVENT
BEGIN:VEVENT
DTSTART;TZID=America/New_York:20250610T180000
DTEND;TZID=America/New_York:20250610T200000
DTSTAMP:20260424T102337
CREATED:20241220T185451Z
LAST-MODIFIED:20241220T185451Z
UID:7662-1749578400-1749585600@leroyohio.com
SUMMARY:Trustee Meeting
DESCRIPTION:
URL:https://leroyohio.com/calendar/trustee-meeting-13/
LOCATION:Leroy Community Center
END:VEVENT
BEGIN:VEVENT
DTSTART;TZID=America/New_York:20250527T190000
DTEND;TZID=America/New_York:20250527T210000
DTSTAMP:20260424T102337
CREATED:20250513T182242Z
LAST-MODIFIED:20250513T182242Z
UID:8410-1748372400-1748379600@leroyohio.com
SUMMARY:BZA Meeting
DESCRIPTION:Variance request 2025-2
URL:https://leroyohio.com/calendar/bza-meeting-5/
LOCATION:Leroy Community Center
END:VEVENT
BEGIN:VEVENT
DTSTART;TZID=America/New_York:20250520T180000
DTEND;TZID=America/New_York:20250520T200000
DTSTAMP:20260424T102337
CREATED:20241220T185417Z
LAST-MODIFIED:20241220T185417Z
UID:7660-1747764000-1747771200@leroyohio.com
SUMMARY:Trustee Meeting
DESCRIPTION:
URL:https://leroyohio.com/calendar/trustee-meeting-12/
LOCATION:Leroy Community Center
END:VEVENT
BEGIN:VEVENT
DTSTART;TZID=America/New_York:20250503T090000
DTEND;TZID=America/New_York:20250503T160000
DTSTAMP:20260424T102337
CREATED:20250331T152459Z
LAST-MODIFIED:20250331T152459Z
UID:8297-1746262800-1746288000@leroyohio.com
SUMMARY:Community Garage Sale
DESCRIPTION:Garage Sale – Rules
URL:https://leroyohio.com/calendar/community-garage-sale/
END:VEVENT
BEGIN:VEVENT
DTSTART;TZID=America/New_York:20250429T190000
DTEND;TZID=America/New_York:20250429T210000
DTSTAMP:20260424T102337
CREATED:20250424T232919Z
LAST-MODIFIED:20250424T232919Z
UID:8376-1745953200-1745960400@leroyohio.com
SUMMARY:BZA Meeting
DESCRIPTION:
URL:https://leroyohio.com/calendar/bza-meeting-4/
LOCATION:Leroy Community Center
END:VEVENT
BEGIN:VEVENT
DTSTART;TZID=America/New_York:20250429T180000
DTEND;TZID=America/New_York:20250429T200000
DTSTAMP:20260424T102337
CREATED:20241220T185347Z
LAST-MODIFIED:20250416T115531Z
UID:7658-1745949600-1745956800@leroyohio.com
SUMMARY:Trustee Meeting
DESCRIPTION:
URL:https://leroyohio.com/calendar/trustee-meeting-11/
LOCATION:Leroy Community Center
END:VEVENT
BEGIN:VEVENT
DTSTART;TZID=America/New_York:20250415T180000
DTEND;TZID=America/New_York:20250415T200000
DTSTAMP:20260424T102337
CREATED:20241220T185314Z
LAST-MODIFIED:20241220T185314Z
UID:7656-1744740000-1744747200@leroyohio.com
SUMMARY:Trustee Meeting
DESCRIPTION:
URL:https://leroyohio.com/calendar/trustee-meeting-10/
LOCATION:Leroy Community Center
END:VEVENT
BEGIN:VEVENT
DTSTART;TZID=America/New_York:20250413T140000
DTEND;TZID=America/New_York:20250413T170000
DTSTAMP:20260424T102337
CREATED:20250331T152012Z
LAST-MODIFIED:20250331T152047Z
UID:8292-1744552800-1744563600@leroyohio.com
SUMMARY:Easter Egg Hunt
DESCRIPTION:
URL:https://leroyohio.com/calendar/easter-egg-hunt/
LOCATION:Hidden Lake – Shelter\, 7024 Kniffen Road\, Painesville\, OH\, 44077\, United States
END:VEVENT
BEGIN:VEVENT
DTSTART;TZID=America/New_York:20250413T090000
DTEND;TZID=America/New_York:20250413T123000
DTSTAMP:20260424T102337
CREATED:20241220T191111Z
LAST-MODIFIED:20250212T130210Z
UID:7682-1744534800-1744547400@leroyohio.com
SUMMARY:Fire Department Pancake Breakfast
DESCRIPTION:
URL:https://leroyohio.com/calendar/fire-department-pancake-breakfast/
LOCATION:Leroy Fire Station\, 13028 Leroy Center Road\, Painesville\, 44077\, United States
END:VEVENT
BEGIN:VEVENT
DTSTART;TZID=America/New_York:20250408T190000
DTEND;TZID=America/New_York:20250408T210000
DTSTAMP:20260424T102337
CREATED:20250115T174907Z
LAST-MODIFIED:20250202T190234Z
UID:8146-1744138800-1744146000@leroyohio.com
SUMMARY:Zoning Board Meeting
DESCRIPTION:
URL:https://leroyohio.com/calendar/zoning-board-meeting-2/
LOCATION:Leroy Community Center
END:VEVENT
BEGIN:VEVENT
DTSTART;TZID=America/New_York:20250403T170000
DTEND;TZID=America/New_York:20250403T190000
DTSTAMP:20260424T102337
CREATED:20250401T231448Z
LAST-MODIFIED:20250401T231448Z
UID:8312-1743699600-1743706800@leroyohio.com
SUMMARY:Special Trustees Meeting
DESCRIPTION:
URL:https://leroyohio.com/calendar/special-trustees-meeting-2/
LOCATION:Leroy Community Center
END:VEVENT
BEGIN:VEVENT
DTSTART;TZID=America/New_York:20250401T180000
DTEND;TZID=America/New_York:20250401T200000
DTSTAMP:20260424T102337
CREATED:20241220T185240Z
LAST-MODIFIED:20241220T185240Z
UID:7654-1743530400-1743537600@leroyohio.com
SUMMARY:Trustee Meeting
DESCRIPTION:
URL:https://leroyohio.com/calendar/trustee-meeting-9/
LOCATION:Leroy Community Center
END:VEVENT
BEGIN:VEVENT
DTSTART;TZID=America/New_York:20250318T180000
DTEND;TZID=America/New_York:20250318T200000
DTSTAMP:20260424T102337
CREATED:20241220T185148Z
LAST-MODIFIED:20241220T185148Z
UID:7652-1742320800-1742328000@leroyohio.com
SUMMARY:Trustee Meeting
DESCRIPTION:
URL:https://leroyohio.com/calendar/trustee-meeting-8/
LOCATION:Leroy Community Center
END:VEVENT
BEGIN:VEVENT
DTSTART;TZID=America/New_York:20250314T113000
DTEND;TZID=America/New_York:20250314T133000
DTSTAMP:20260424T102337
CREATED:20250310T183920Z
LAST-MODIFIED:20250310T183920Z
UID:8222-1741951800-1741959000@leroyohio.com
SUMMARY:Trustee Work Session
DESCRIPTION:
URL:https://leroyohio.com/calendar/trustee-work-session/
LOCATION:Leroy Community Center
END:VEVENT
BEGIN:VEVENT
DTSTART;TZID=America/New_York:20250311T190000
DTEND;TZID=America/New_York:20250311T210000
DTSTAMP:20260424T102337
CREATED:20250115T174811Z
LAST-MODIFIED:20250202T190340Z
UID:8144-1741719600-1741726800@leroyohio.com
SUMMARY:Zoning Board Meeting
DESCRIPTION:
URL:https://leroyohio.com/calendar/zoning-board-meeting/
LOCATION:Leroy Community Center
END:VEVENT
BEGIN:VEVENT
DTSTART;TZID=America/New_York:20250304T180000
DTEND;TZID=America/New_York:20250304T200000
DTSTAMP:20260424T102337
CREATED:20241220T185114Z
LAST-MODIFIED:20241220T185114Z
UID:7650-1741111200-1741118400@leroyohio.com
SUMMARY:Trustee Meeting
DESCRIPTION:
URL:https://leroyohio.com/calendar/trustee-meeting-7/
LOCATION:Leroy Community Center
END:VEVENT
BEGIN:VEVENT
DTSTART;TZID=America/New_York:20250225T190000
DTEND;TZID=America/New_York:20250225T200000
DTSTAMP:20260424T102337
CREATED:20250205T160447Z
LAST-MODIFIED:20250205T160447Z
UID:8190-1740510000-1740513600@leroyohio.com
SUMMARY:BZA Public Hearing
DESCRIPTION:Variance Request.
URL:https://leroyohio.com/calendar/bza-public-hearing/
END:VEVENT
BEGIN:VEVENT
DTSTART;TZID=America/New_York:20250218T180000
DTEND;TZID=America/New_York:20250218T200000
DTSTAMP:20260424T102337
CREATED:20241220T184850Z
LAST-MODIFIED:20241220T184850Z
UID:7648-1739901600-1739908800@leroyohio.com
SUMMARY:Trustee Meeting
DESCRIPTION:
URL:https://leroyohio.com/calendar/trustee-meeting-6/
LOCATION:Leroy Community Center
END:VEVENT
BEGIN:VEVENT
DTSTART;TZID=America/New_York:20250218T170000
DTEND;TZID=America/New_York:20250218T180000
DTSTAMP:20260424T102337
CREATED:20250205T155045Z
LAST-MODIFIED:20250205T155811Z
UID:8186-1739898000-1739901600@leroyohio.com
SUMMARY:Work Session
DESCRIPTION:
URL:https://leroyohio.com/calendar/work-session-2/
LOCATION:Leroy Community Center
END:VEVENT
BEGIN:VEVENT
DTSTART;TZID=America/New_York:20250204T180000
DTEND;TZID=America/New_York:20250204T200000
DTSTAMP:20260424T102337
CREATED:20241220T184816Z
LAST-MODIFIED:20241220T184816Z
UID:7646-1738692000-1738699200@leroyohio.com
SUMMARY:Trustee Meeting
DESCRIPTION:
URL:https://leroyohio.com/calendar/trustee-meeting-5/
LOCATION:Leroy Community Center
END:VEVENT
BEGIN:VEVENT
DTSTART;TZID=America/New_York:20250128T190000
DTEND;TZID=America/New_York:20250128T210000
DTSTAMP:20260424T102337
CREATED:20241229T153931Z
LAST-MODIFIED:20250202T190408Z
UID:7712-1738090800-1738098000@leroyohio.com
SUMMARY:BZA Meeting
DESCRIPTION:
URL:https://leroyohio.com/calendar/bza-meeting-3/
LOCATION:Leroy Community Center
END:VEVENT
BEGIN:VEVENT
DTSTART;TZID=America/New_York:20250121T180000
DTEND;TZID=America/New_York:20250121T200000
DTSTAMP:20260424T102337
CREATED:20241220T184521Z
LAST-MODIFIED:20241220T184623Z
UID:7642-1737482400-1737489600@leroyohio.com
SUMMARY:Trustee Meeting
DESCRIPTION:
URL:https://leroyohio.com/calendar/trustee-meeting-3/
LOCATION:Leroy Community Center
END:VEVENT
END:VCALENDAR